Workbook
Name TVA: 'QuickBooks - Intro'!$B$41:$B$45

Sheet QuickBooks - Intro
B2: Retrouvez plus d'informations et des conseils sur la facturation sur Le Blog des entrepreneurs.
B4: Découvrez QuickBooks, la solution de facturation et de comptabilité n° 1 en France : Nos offres | Découvrir QuickBooks
A7: Introduction
A8: Merci d'avoir téléchargé notre modèle de facture. Pour accompagner plusieurs millions d'entrepreneurs dans le monde, nous savons que c'est avec les premiers clients que l'histoire débute réellement... Votre modèle prêt à l'emploi en 2 étapes #1 Remplir la première feuille (uniquement les cases vertes) : changer les données de la "société fictive" utilisée en exemple. #2 Passer à l'onglet "Facture" ou à l'onglet "Devis" et éditer vos premiers documents ! Un conseil : conservez toujours une copie de vos devis et factures, en allant dans Fichier > Télécharger, pour avoir un PDF ou une version Excel / Google Sheets modifiable si nécessaire. Et si vous souhaitez avoir une expérience plus complète d'un logiciel de facturation, avec ses avantages (génération de devis, de bons de commande, de factures... mais aussi suivi des impayés, tableau de bord pour gérer votre trésorerie au plus près, recoupement bancaire, relances automatiques, etc.), rendez-vous sur notre site !
A15: Découvrez et essayez QuickBooks, la solution de comptabilité et de facturation 100 % en ligne ! >> C'est par ici ! <<
A18: Votre entreprise
A19: Raison sociale de l'entreprise | B19: Mon entreprise SAS
A20: Forme de l'entreprise (menu déroulant) | B20: SAS
A21: Montant du capital social | B21: 1000
A22: Nom courant de l'entreprise | B22: Mon Entreprise
A23: Numéro de SIREN | B23: 555-333-999
A24: Code NAF | B24: YYYY
A25: Lieu d'immatriculation | B25: Paris
A26: Numéro TVA de votre entreprise | B26: FR-555-333-999-40
A27: Adresse postale du siège de votre entreprise | B27: 7, rue de la Paix
A28: Adresse postale du siège de votre entreprise - Ligne 2 | B28: Immeuble Opéra
A29: Adresse - Code Postal & Ville | B29: 75 003 Paris
A30: Email de contact | B30: contact@mon-entreprise.com
A31: Numéro de téléphone | B31: 01 23 45 67 89
A32: Site Internet | B32: www.mon-entreprise.com
A34: Numéro de Facture / Devis (utiliser une numérotation continue) | B34: 1
A35: Lien vers vos Conditions Générales de Vente (facultatif) | B35: www.mon-entreprise.com/cgv
A36: Nombre de jours pour règlement | B36: 30
A37: Nombre de jours de valité du devis | B37: 90
A40: Taux de TVA
A41: Taux normal | B41: 20 %
A42: Taux intermédiaire | B42: 10 %
A43: Taux réduit | B43: 5,5 %
A44: Taux particulier | B44: 2,1 %
A45: Taux nul | B45: 0 %
A46: Plus d'infos sur les taux de TVA applicables
A47: http://www.economie.gouv.fr/cedef/taux-tva-france-et-union-europeenne
A51: Coordonnées bancaires de votre entreprise
A52: Nom du compte | B52: MonEntreprise
A53: IBAN | B53: FR76 1234 1234 1234 1234 1234 1234 1234
A54: BIC | B54: ABCDFRABCDF
A57: Mentions particulières
A58: Vous êtes membre d'un centre de gestion ou d'une association agréée | B58: Non
A59: =IF(B58="Oui","Pensez à le préciser sur la facture","")
A60: Vous êtes sous-traitant du BTP pour le compte d'un donneur d'ordre | B60: Non
...

Sheet Facture
B1: ='QuickBooks - Intro'!B19 -> Mon entreprise SAS
H2: FACTURE
B3: ='QuickBooks - Intro'!B22 -> Mon Entreprise | H3: Facture n° | J3: =YEAR(TODAY())&"-"&MONTH(TODAY())&"-"&DAY(TODAY())&"-"&'QuickBooks - Intro'!B34 -> 2020-7-29-1
B4: ='QuickBooks - Intro'!B27 -> 7, rue de la Paix | H4: En date du | J4: =TODAY() -> 44041
B5: =IF('QuickBooks - Intro'!B28="",'QuickBooks - Intro'!B29,'QuickBooks - Intro'!B28) -> Immeuble Opéra
B6: =IF('QuickBooks - Intro'!B28="","",'QuickBooks - Intro'!B29) -> 75 003 Paris
B7: ='QuickBooks - Intro'!B30 -> contact@mon-entreprise.com | F7: Facture adressée à
B8: ='QuickBooks - Intro'!B31 -> 01 23 45 67 89 | G8: Nom
G9: Adresse 1
G10: Adresse 2
G11: Code postal - Ville
G12: Adresse e-mail
G13: Téléphone
G14: No TVA
D18: Date de la vente/prestation
D19: Date d'échéance de règlement | E19: =J4+'QuickBooks - Intro'!B36 -> 44071
B21: Description de la prestation /produit | E21: Réf | F21: Quantité | G21: Prix / u HT | H21: =IF('QuickBooks - Intro'!B20="Autoentreprise","% TVA *","% TVA") -> % TVA | I21: Prix / u TTC | J21: Total HT | K21: Total TVA | L21: Total TTC
B23: … | I23: =IF(OR(G23=0,F23=0,G23="",F23=""),"",G23*(1+H23)) | J23: =IF(OR(G23=0,F23=0,G23="",F23=""),"",G23*F23) | K23: =IF(OR(G23=0,F23=0,G23="",F23=""),"",(G23*H23)*F23) | L23: =IF(OR(G23=0,F23=0,G23="",F23=""),"",I23*F23)
B24: … | I24: =IF(OR(G24=0,F24=0,G24="",F24=""),"",G24*(1+H24)) | J24: =IF(OR(G24=0,F24=0,G24="",F24=""),"",G24*F24) | K24: =IF(OR(G24=0,F24=0,G24="",F24=""),"",(G24*H24)*F24) | L24: =IF(OR(G24=0,F24=0,G24="",F24=""),"",I24*F24)
I25: =IF(OR(G25=0,F25=0,G25="",F25=""),"",G25*(1+H25)) | J25: =IF(OR(G25=0,F25=0,G25="",F25=""),"",G25*F25) | K25: =IF(OR(G25=0,F25=0,G25="",F25=""),"",(G25*H25)*F25) | L25: =IF(OR(G25=0,F25=0,G25="",F25=""),"",I25*F25)
J26: =IF(OR(G26=0,F26=0,G26="",F26=""),"",G26*F26) | K26: =IF(OR(G26=0,F26=0,G26="",F26=""),"",(G26*H26)*F26) | L26: =IF(OR(G26=0,F26=0,G26="",F26=""),"",I26*F26)
I27: =IF(OR(G27=0,F27=0,G27="",F27=""),"",G27*(1+H27)) | J27: =IF(OR(G27=0,F27=0,G27="",F27=""),"",G27*F27) | K27: =IF(OR(G27=0,F27=0,G27="",F27=""),"",(G27*H27)*F27) | L27: =IF(OR(G27=0,F27=0,G27="",F27=""),"",I27*F27)
I28: =IF(OR(G28=0,F28=0,G28="",F28=""),"",G28*(1+H28)) | J28: =IF(OR(G28=0,F28=0,G28="",F28=""),"",G28*F28) | K28: =IF(OR(G28=0,F28=0,G28="",F28=""),"",(G28*H28)*F28) | L28: =IF(OR(G28=0,F28=0,G28="",F28=""),"",I28*F28)
I29: =IF(OR(G29=0,F29=0,G29="",F29=""),"",G29*(1+H29)) | J29: =IF(OR(G29=0,F29=0,G29="",F29=""),"",G29*F29) | K29: =IF(OR(G29=0,F29=0,G29="",F29=""),"",(G29*H29)*F29) | L29: =IF(OR(G29=0,F29=0,G29="",F29=""),"",I29*F29)
I30: =IF(OR(G30=0,F30=0,G30="",F30=""),"",G30*(1+H30)) | J30: =IF(OR(G30=0,F30=0,G30="",F30=""),"",G30*F30) | K30: =IF(OR(G30=0,F30=0,G30="",F30=""),"",(G30*H30)*F30) | L30: =IF(OR(G30=0,F30=0,G30="",F30=""),"",I30*F30)
I31: =IF(OR(G31=0,F31=0,G31="",F31=""),"",G31*(1+H31)) | J31: =IF(OR(G31=0,F31=0,G31="",F31=""),"",G31*F31) | K31: =IF(OR(G31=0,F31=0,G31="",F31=""),"",(G31*H31)*F31) | L31: =IF(OR(G31=0,F31=0,G31="",F31=""),"",I31*F31)
B34: Détails de règlement : | K34: Total HT | L34: =SUM(J23:J31) -> 0
K35: Remise
K36: Total HT après remise | L36: =L34*(1-L35) -> 0
K38: =IF('QuickBooks - Intro'!B20="Autoentreprise","TVA*","TVA") -> TVA | L38: =IF('QuickBooks - Intro'!B20="Autoentreprise",0,SUM(K23:K32)*(1-L35)) -> 0
B39: Taux des pénalités exigibles en l'absence de paiement : 3 %. Indemnité forfaitaire pour frais de recouvrement en cas de retard de paiement : 40 €. Nos conditions de vente ne prévoient pas d'escompte pour paiement anticipé. Coordonnées bancaires
K40: Total TTC | L40: =L34+L35 -> 0
B45: Nom du compte | D45: ='QuickBooks - Intro'!B52 -> MonEntreprise
B46: IBAN | D46: ='QuickBooks - Intro'!B53 -> FR76 1234 1234 1234 1234 1234 1234 1234
B47: BIC | D47: ='QuickBooks - Intro'!B54 -> ABCDFRABCDF
B49: =IF('QuickBooks - Intro'!B20="Autoentreprise","* TVA non applicable, article 293 B du CGI","")
A52: =IF('QuickBooks - Intro'!B20="Autoentreprise",CONCATENATE('QuickBooks - Intro'!B20," - Siren ",'QuickBooks - Intro'!B23),CONCATENATE('QuickBooks - Intro'!B20," au capital social de ",'QuickBooks - Intro'!B21," €"," - Siren ",'QuickBooks - Intro'!B23,", Code NAF ",'QuickBooks - Intro'!B24)) -> SAS au capital social de 1000 € - Siren 555-333-999, Code NAF YYYY
A53: =IF('QuickBooks - Intro'!B20="Autoentreprise","",CONCATENATE("N° TVA ",'QuickBooks - Intro'!B26,", RCS ",'QuickBooks - Intro'!B25)) -> N° TVA FR-555-333-999-40, RCS Paris

Sheet Devis
B1: ='QuickBooks - Intro'!B19 -> Mon entreprise SAS
H2: DEVIS
B3: ='QuickBooks - Intro'!B22 -> Mon Entreprise | H3: Devis n° | J3: ="D-"&YEAR(TODAY())&"-"&MONTH(TODAY())&"-"&DAY(TODAY())&"-"&'QuickBooks - Intro'!B34 -> D-2020-7-29-1
B4: ='QuickBooks - Intro'!B27 -> 7, rue de la Paix | H4: En date du | J4: =TODAY() -> 44041
B5: =IF('QuickBooks - Intro'!B28="",'QuickBooks - Intro'!B29,'QuickBooks - Intro'!B28) -> Immeuble Opéra
B6: =IF('QuickBooks - Intro'!B28="","",'QuickBooks - Intro'!B29) -> 75 003 Paris
B7: ='QuickBooks - Intro'!B30 -> contact@mon-entreprise.com | F7: Devis adressé à
B8: ='QuickBooks - Intro'!B31 -> 01 23 45 67 89 | G8: Nom
G9: Adresse 1
G10: Adresse 2
G11: Code postal - Ville
G12: Adresse e-mail
G13: Téléphone
G14: No TVA
D19: Date de validité du présent devis | E19: =J4+'QuickBooks - Intro'!B37 -> 44131
B21: Description de la prestation | E21: Ref | F21: Quantité | G21: Prix / u HT | H21: =IF('QuickBooks - Intro'!B20="Autoentreprise","% TVA *","% TVA") -> % TVA | I21: Prix / u TTC | J21: Total HT | K21: Total TVA | L21: Total TTC
B23: … | I23: =IF(OR(G23=0,F23=0,G23="",F23=""),"",G23*(1+H23)) | J23: =IF(OR(G23=0,F23=0,G23="",F23=""),"",G23*F23) | K23: =IF(OR(G23=0,F23=0,G23="",F23=""),"",(G23*H23)*F23) | L23: =IF(OR(G23=0,F23=0,G23="",F23=""),"",I23*F23)
B24: … | I24: =IF(OR(G24=0,F24=0,G24="",F24=""),"",G24*(1+H24)) | J24: =IF(OR(G24=0,F24=0,G24="",F24=""),"",G24*F24) | K24: =IF(OR(G24=0,F24=0,G24="",F24=""),"",(G24*H24)*F24) | L24: =IF(OR(G24=0,F24=0,G24="",F24=""),"",I24*F24)
I25: =IF(OR(G25=0,F25=0,G25="",F25=""),"",G25*(1+H25)) | J25: =IF(OR(G25=0,F25=0,G25="",F25=""),"",G25*F25) | K25: =IF(OR(G25=0,F25=0,G25="",F25=""),"",(G25*H25)*F25) | L25: =IF(OR(G25=0,F25=0,G25="",F25=""),"",I25*F25)
I26: =IF(OR(G26=0,F26=0,G26="",F26=""),"",G26*(1+H26)) | J26: =IF(OR(G26=0,F26=0,G26="",F26=""),"",G26*F26) | K26: =IF(OR(G26=0,F26=0,G26="",F26=""),"",(G26*H26)*F26) | L26: =IF(OR(G26=0,F26=0,G26="",F26=""),"",I26*F26)
I27: =IF(OR(G27=0,F27=0,G27="",F27=""),"",G27*(1+H27)) | J27: =IF(OR(G27=0,F27=0,G27="",F27=""),"",G27*F27) | K27: =IF(OR(G27=0,F27=0,G27="",F27=""),"",(G27*H27)*F27) | L27: =IF(OR(G27=0,F27=0,G27="",F27=""),"",I27*F27)
I28: =IF(OR(G28=0,F28=0,G28="",F28=""),"",G28*(1+H28)) | J28: =IF(OR(G28=0,F28=0,G28="",F28=""),"",G28*F28) | K28: =IF(OR(G28=0,F28=0,G28="",F28=""),"",(G28*H28)*F28) | L28: =IF(OR(G28=0,F28=0,G28="",F28=""),"",I28*F28)
I29: =IF(OR(G29=0,F29=0,G29="",F29=""),"",G29*(1+H29)) | J29: =IF(OR(G29=0,F29=0,G29="",F29=""),"",G29*F29) | K29: =IF(OR(G29=0,F29=0,G29="",F29=""),"",(G29*H29)*F29) | L29: =IF(OR(G29=0,F29=0,G29="",F29=""),"",I29*F29)
I30: =IF(OR(G30=0,F30=0,G30="",F30=""),"",G30*(1+H30)) | J30: =IF(OR(G30=0,F30=0,G30="",F30=""),"",G30*F30) | K30: =IF(OR(G30=0,F30=0,G30="",F30=""),"",(G30*H30)*F30) | L30: =IF(OR(G30=0,F30=0,G30="",F30=""),"",I30*F30)
I31: =IF(OR(G31=0,F31=0,G31="",F31=""),"",G31*(1+H31)) | J31: =IF(OR(G31=0,F31=0,G31="",F31=""),"",G31*F31) | K31: =IF(OR(G31=0,F31=0,G31="",F31=""),"",(G31*H31)*F31) | L31: =IF(OR(G31=0,F31=0,G31="",F31=""),"",I31*F31)
B34: Détails de règlement & délais de livraison : | K34: Total HT | L34: =SUM(J23:J32) -> 0
K35: Remise
K36: Total HT après remise | L36: =L34*(1-L35) -> 0
K38: =IF('QuickBooks - Intro'!B20="Autoentreprise","TVA*","TVA") -> TVA | L38: =IF('QuickBooks - Intro'!B20="Autoentreprise",0,SUM(K23:K32)*(1-L35)) -> 0
B39: Taux des pénalités exigibles en l'absence de paiement : 3 %. Indemnité forfaitaire pour frais de recouvrement en cas de retard de paiement : 40 €. Nos conditions de vente ne prévoient pas d'escompte pour paiement anticipé. Bon pour acceptation
K40: Total TTC | L40: =L34+L35 -> 0
B45: Nom du signataire | H45: Date
B47: Qualité
H51: Signature
B52: =IF('QuickBooks - Intro'!B20="Autoentreprise","* TVA non applicable, article 293 B du CGI","")
A55: =IF('QuickBooks - Intro'!B20="Autoentreprise",CONCATENATE('QuickBooks - Intro'!B20," - Siren ",'QuickBooks - Intro'!B23),CONCATENATE('QuickBooks - Intro'!B20," au capital social de ",'QuickBooks - Intro'!B21," €"," - Siren ",'QuickBooks - Intro'!B23,", Code NAF ",'QuickBooks - Intro'!B24)) -> SAS au capital social de 1000 € - Siren 555-333-999, Code NAF YYYY
A56: =IF('QuickBooks - Intro'!B20="Autoentreprise","",CONCATENATE("N° TVA ",'QuickBooks - Intro'!B26,", RCS ",'QuickBooks - Intro'!B25)) -> N° TVA FR-555-333-999-40, RCS Paris
